BEGIN:VCALENDAR
VERSION:2.0
PRODID:-//Plone.org//NONSGML plone.app.event//EN
X-WR-TIMEZONE:Brazil/East
BEGIN:VEVENT
SUMMARY:26ª Sessão Ordinária de 2019
DTSTART;TZID=Brazil/East;VALUE=DATE-TIME:20190909T173000
DTSTAMP;VALUE=DATE-TIME:20260424T052434Z
UID:9817d1add2e84bec8810f369827d7234@www.pedralva.mg.leg.br
CREATED;VALUE=DATE-TIME:20190827T185029Z
LAST-MODIFIED;VALUE=DATE-TIME:20190827T185032Z
LOCATION:Plenário da Câmara Municipal
URL:https://www.pedralva.mg.leg.br/eventos/26a-sessao-ordinaria-de-2019
END:VEVENT
BEGIN:VTIMEZONE
TZID:Brazil/East
X-LIC-LOCATION:Brazil/East
BEGIN:STANDARD
DTSTART;VALUE=DATE-TIME:20190216T230000
TZNAME:BRT
TZOFFSETFROM:-0200
TZOFFSETTO:-0300
END:STANDARD
END:VTIMEZONE
END:VCALENDAR
