BEGIN:VCALENDAR
VERSION:2.0
PRODID:-//Plone.org//NONSGML plone.app.event//EN
X-WR-TIMEZONE:Brazil/East
BEGIN:VEVENT
SUMMARY:2ª Sessão Ordinária da Câmara Jovem de 2019
DTSTART;TZID=Brazil/East;VALUE=DATE-TIME:20190528T173000
DTSTAMP;VALUE=DATE-TIME:20260421T111002Z
UID:d017fb05dee6446aa54a0b4058e58b19@pedralva.mg.leg.br
CREATED;VALUE=DATE-TIME:20190522T165838Z
LAST-MODIFIED;VALUE=DATE-TIME:20190522T165843Z
LOCATION:Plenário da Câmara Municipal
URL:https://www.pedralva.mg.leg.br/eventos/2a-sessao-ordinaria-da-camara-j
 ovem-de-2019
END:VEVENT
BEGIN:VTIMEZONE
TZID:Brazil/East
X-LIC-LOCATION:Brazil/East
BEGIN:STANDARD
DTSTART;VALUE=DATE-TIME:20190216T230000
TZNAME:BRT
TZOFFSETFROM:-0200
TZOFFSETTO:-0300
END:STANDARD
END:VTIMEZONE
END:VCALENDAR
