BEGIN:VCALENDAR
VERSION:2.0
PRODID:-//Plone.org//NONSGML plone.app.event//EN
X-WR-TIMEZONE:Brazil/East
BEGIN:VEVENT
SUMMARY:3ª Sessão Ordinária da Câmara Jovem de 2019
DTSTART;TZID=Brazil/East;VALUE=DATE-TIME:20190625T173000
DTSTAMP;VALUE=DATE-TIME:20260422T010103Z
UID:36f63f43b19a4004ac133388d9c79660@pedralva.mg.leg.br
CREATED;VALUE=DATE-TIME:20190603T153303Z
LAST-MODIFIED;VALUE=DATE-TIME:20190603T153330Z
LOCATION:Plenário da Câmara Municipal
URL:https://www.pedralva.mg.leg.br/eventos/3a-sessao-ordinaria-da-camara-j
 ovem-de-2019
END:VEVENT
BEGIN:VTIMEZONE
TZID:Brazil/East
X-LIC-LOCATION:Brazil/East
BEGIN:STANDARD
DTSTART;VALUE=DATE-TIME:20190216T230000
TZNAME:BRT
TZOFFSETFROM:-0200
TZOFFSETTO:-0300
END:STANDARD
END:VTIMEZONE
END:VCALENDAR
